BEGIN:VCALENDAR

VERSION:2.0

METHOD:PUBLISH

BEGIN:VEVENT

DTSTART:20261019T090000

DTEND:20261019T130000

LOCATION:Novapark Hotelbetriebs-GmbH, Fischeraustraße 22, 8051 Graz

TRANSP: OPAQUE

SEQUENCE:0

UID:434629018

DTSTAMP:20260420T144646Z

SUMMARY:Prüfung Certified Safety Specialist ISO 26262 TÜV®

DESCRIPTION:

PRIORITY:5

CLASS:PUBLIC

END:VEVENT

END:VCALENDAR
