BEGIN:VCALENDAR

VERSION:2.0

METHOD:PUBLISH

BEGIN:VEVENT

DTSTART:20260917T080000

DTEND:20260918T170000

LOCATION:TÜV AUSTRIA Technology & Innovation Center, Deutschstraße 10, 1230 Wien

TRANSP: OPAQUE

SEQUENCE:0

UID:1901149182

DTSTAMP:20260421T123111Z

SUMMARY:ZfP-Qualifizierungsprüfung UT - Stufe 2

DESCRIPTION:

PRIORITY:5

CLASS:PUBLIC

END:VEVENT

END:VCALENDAR
