BEGIN:VCALENDAR

VERSION:2.0

METHOD:PUBLISH

BEGIN:VEVENT

DTSTART:20270222T083000

DTEND:20270222T123000

LOCATION:TÜV AUSTRIA Online Campus, , 0 Online

TRANSP: OPAQUE

SEQUENCE:0

UID:1879696270

DTSTAMP:20260420T144309Z

SUMMARY:Prüfung Certified Digital Excellence Expert TÜV®

DESCRIPTION:

PRIORITY:5

CLASS:PUBLIC

END:VEVENT

END:VCALENDAR
