BEGIN:VCALENDAR

VERSION:2.0

METHOD:PUBLISH

BEGIN:VEVENT

DTSTART:20261006T083000

DTEND:20261007T163000

LOCATION:TÜV AUSTRIA AKADEMIE GMBH, campus21 / TÜV AUSTRIA Platz 1, 2345 Brunn am Gebirge

TRANSP: OPAQUE

SEQUENCE:0

UID:1441499556

DTSTAMP:20260422T185659Z

SUMMARY:Grundlagen der Prozessautomatisierung in der Logistik


DESCRIPTION:

PRIORITY:5

CLASS:PUBLIC

END:VEVENT

END:VCALENDAR
