BEGIN:VCALENDAR

VERSION:2.0

METHOD:PUBLISH

BEGIN:VEVENT

DTSTART:20260616T090000

DTEND:20260616T170000

LOCATION:TÜV AUSTRIA AKADEMIE GMBH, campus21 / TÜV AUSTRIA Platz 1, 2345 Brunn am Gebirge

TRANSP: OPAQUE

SEQUENCE:0

UID:1687351977

DTSTAMP:20260420T181123Z

SUMMARY:Refreshing Certified Safety Specialist ISO 26262 TÜV®

DESCRIPTION:

PRIORITY:5

CLASS:PUBLIC

END:VEVENT

END:VCALENDAR
