BEGIN:VCALENDAR

VERSION:2.0

METHOD:PUBLISH

BEGIN:VEVENT

DTSTART:20260929T090000

DTEND:20261002T170000

LOCATION:Novapark Hotelbetriebs-GmbH, Fischeraustraße 22, 8051 Graz

TRANSP: OPAQUE

SEQUENCE:0

UID:305973904

DTSTAMP:20260420T145307Z

SUMMARY:Ausbildung Certified Safety Specialist ISO 26262 TÜV®

DESCRIPTION:

PRIORITY:5

CLASS:PUBLIC

END:VEVENT

END:VCALENDAR
