BEGIN:VCALENDAR

VERSION:2.0

METHOD:PUBLISH

BEGIN:VEVENT

DTSTART:20260831T073000

DTEND:20260911T173000

LOCATION:TÜV AUSTRIA Technology & Innovation Center, Deutschstraße 10, 1230 Wien

TRANSP: OPAQUE

SEQUENCE:0

UID:343183533

DTSTAMP:20260421T123147Z

SUMMARY:UT 2: Aufbaukurs Ultraschallprüfung - Stufe 2

DESCRIPTION:

PRIORITY:5

CLASS:PUBLIC

END:VEVENT

END:VCALENDAR
