BEGIN:VCALENDAR

VERSION:2.0

METHOD:PUBLISH

BEGIN:VEVENT

DTSTART:20260511T083000

DTEND:20260511T163000

LOCATION:AK Bildungshaus Jägermayrhof, Römerstraße 98, 4020 Linz

TRANSP: OPAQUE

SEQUENCE:0

UID:1879447061

DTSTAMP:20260422T125646Z

SUMMARY:Refreshing für Datenschutzbeauftragte

DESCRIPTION:

PRIORITY:5

CLASS:PUBLIC

END:VEVENT

END:VCALENDAR
