BEGIN:VCALENDAR

VERSION:2.0

METHOD:PUBLISH

BEGIN:VEVENT

DTSTART:20261020T083000

DTEND:20261020T143000

LOCATION:TÜV AUSTRIA Online Campus, , 0 Online

TRANSP: OPAQUE

SEQUENCE:0

UID:432473040

DTSTAMP:20260422T070349Z

SUMMARY:Erstellung einer Brandschutzordnung gemäß der TRVB 119 O

DESCRIPTION:

PRIORITY:5

CLASS:PUBLIC

END:VEVENT

END:VCALENDAR
