BEGIN:VCALENDAR

VERSION:2.0

METHOD:PUBLISH

BEGIN:VEVENT

DTSTART:20261130T083000

DTEND:20261130T163000

LOCATION:TÜV AUSTRIA Technology & Innovation Center, Deutschstraße 10, 1230 Wien

TRANSP: OPAQUE

SEQUENCE:0

UID:1028281523

DTSTAMP:20260422T070019Z

SUMMARY:Brandschutz in Nutzungen mit besonderen Gefährdungen (N3)

DESCRIPTION:

PRIORITY:5

CLASS:PUBLIC

END:VEVENT

END:VCALENDAR
