BEGIN:VCALENDAR

VERSION:2.0

METHOD:PUBLISH

BEGIN:VEVENT

DTSTART:20261102T083000

DTEND:20261102T163000

LOCATION:TÜV AUSTRIA AKADEMIE GMBH, Wiener Bundesstraße 8, 4060 Leonding

TRANSP: OPAQUE

SEQUENCE:0

UID:1314586381

DTSTAMP:20260422T070013Z

SUMMARY:Brandschutz in Nutzungen mit besonderen Gefährdungen (N3)

DESCRIPTION:

PRIORITY:5

CLASS:PUBLIC

END:VEVENT

END:VCALENDAR
