BEGIN:VCALENDAR

VERSION:2.0

METHOD:PUBLISH

BEGIN:VEVENT

DTSTART:20260526T083000

DTEND:20260526T163000

LOCATION:TÜV AUSTRIA AKADEMIE GMBH, Münchner Bundesstraße 116, 5020 Salzburg

TRANSP: OPAQUE

SEQUENCE:0

UID:1156263559

DTSTAMP:20260422T065850Z

SUMMARY:Brandschutz in Nutzungen mit besonderen Gefährdungen (N3)

DESCRIPTION:

PRIORITY:5

CLASS:PUBLIC

END:VEVENT

END:VCALENDAR
