BEGIN:VCALENDAR

VERSION:2.0

METHOD:PUBLISH

BEGIN:VEVENT

DTSTART:20260520T083000

DTEND:20260520T163000

LOCATION:TÜV AUSTRIA AKADEMIE GMBH, Münchner Bundesstraße 116, 5020 Salzburg

TRANSP: OPAQUE

SEQUENCE:0

UID:1989173082

DTSTAMP:20260422T070337Z

SUMMARY:Brandschutz in Nutzungen mit erhöhter Brandgefahr (N2)

DESCRIPTION:

PRIORITY:5

CLASS:PUBLIC

END:VEVENT

END:VCALENDAR
