BEGIN:VCALENDAR

VERSION:2.0

METHOD:PUBLISH

BEGIN:VEVENT

DTSTART:20260608T083000

DTEND:20260608T163000

LOCATION:TÜV AUSTRIA AKADEMIE GMBH, Münchner Bundesstraße 116, 5020 Salzburg

TRANSP: OPAQUE

SEQUENCE:0

UID:1257534316

DTSTAMP:20260422T072316Z

SUMMARY:Brandgefahren bei Feuer- und Heißarbeiten (TRVB 104 O)

DESCRIPTION:

PRIORITY:5

CLASS:PUBLIC

END:VEVENT

END:VCALENDAR
