BEGIN:VCALENDAR

VERSION:2.0

METHOD:PUBLISH

BEGIN:VEVENT

DTSTART:20260513T083000

DTEND:20260513T163000

LOCATION:TÜV AUSTRIA AKADEMIE GMBH, Wiener Bundesstraße 8, 4060 Leonding

TRANSP: OPAQUE

SEQUENCE:0

UID:1347934932

DTSTAMP:20260422T072351Z

SUMMARY:Brandgefahren bei Feuer- und Heißarbeiten (TRVB 104 O)

DESCRIPTION:

PRIORITY:5

CLASS:PUBLIC

END:VEVENT

END:VCALENDAR
