BEGIN:VCALENDAR

VERSION:2.0

METHOD:PUBLISH

BEGIN:VEVENT

DTSTART:20260511T083000

DTEND:20260511T163000

LOCATION:TÜV AUSTRIA Technology & Innovation Center, Deutschstraße 10, 1230 Wien

TRANSP: OPAQUE

SEQUENCE:0

UID:1525360502

DTSTAMP:20260422T072935Z

SUMMARY:Brandgefahren bei Feuer- und Heißarbeiten (TRVB 104 O)

DESCRIPTION:

PRIORITY:5

CLASS:PUBLIC

END:VEVENT

END:VCALENDAR
