BEGIN:VCALENDAR

VERSION:2.0

METHOD:PUBLISH

BEGIN:VEVENT

DTSTART:20261109T083000

DTEND:20261109T163000

LOCATION:TÜV AUSTRIA Online Campus, , 0 Online

TRANSP: OPAQUE

SEQUENCE:0

UID:263538510

DTSTAMP:20260422T065734Z

SUMMARY:Brandabschnittsbildungen

DESCRIPTION:

PRIORITY:5

CLASS:PUBLIC

END:VEVENT

END:VCALENDAR
