BEGIN:VCALENDAR

VERSION:2.0

METHOD:PUBLISH

BEGIN:VEVENT

DTSTART:20261008T083000

DTEND:20261008T163000

LOCATION:Erwin Gütl Garagenstadt, Ingenieur-Gerhard-Fildan-Straße 8, 2490 Ebenfurth

TRANSP: OPAQUE

SEQUENCE:0

UID:2061320648

DTSTAMP:20260422T070750Z

SUMMARY:Modul 2: Ausbildung zertifizierte:r Sachkundige:r nach EN 671 für ortsfeste Löschwasseranlagen - nass und trocken

DESCRIPTION:

PRIORITY:5

CLASS:PUBLIC

END:VEVENT

END:VCALENDAR
