BEGIN:VCALENDAR

VERSION:2.0

METHOD:PUBLISH

BEGIN:VEVENT

DTSTART:20260611T083000

DTEND:20260611T163000

LOCATION:Erwin Gütl Garagenstadt, Ingenieur-Gerhard-Fildan-Straße 8, 2490 Ebenfurth

TRANSP: OPAQUE

SEQUENCE:0

UID:2143336208

DTSTAMP:20260422T070633Z

SUMMARY:Modul 2: Ausbildung zertifizierte:r Sachkundige:r nach EN 671 für ortsfeste Löschwasseranlagen - nass und trocken

DESCRIPTION:

PRIORITY:5

CLASS:PUBLIC

END:VEVENT

END:VCALENDAR
