BEGIN:VCALENDAR

VERSION:2.0

METHOD:PUBLISH

BEGIN:VEVENT

DTSTART:20261007T083000

DTEND:20261007T163000

LOCATION:TÜV AUSTRIA AKADEMIE GMBH, campus21 / TÜV AUSTRIA Platz 1, 2345 Brunn am Gebirge

TRANSP: OPAQUE

SEQUENCE:0

UID:377441308

DTSTAMP:20260422T073333Z

SUMMARY:Modul 1: Ausbildung unterwiesene Person nach TRVB 128 S für ortsfeste Löschwasseranlagen - nass und trocken

DESCRIPTION:

PRIORITY:5

CLASS:PUBLIC

END:VEVENT

END:VCALENDAR
