BEGIN:VCALENDAR

VERSION:2.0

METHOD:PUBLISH

BEGIN:VEVENT

DTSTART:20260610T083000

DTEND:20260610T163000

LOCATION:TÜV AUSTRIA AKADEMIE GMBH, campus21 / TÜV AUSTRIA Platz 1, 2345 Brunn am Gebirge

TRANSP: OPAQUE

SEQUENCE:0

UID:644032770

DTSTAMP:20260422T072756Z

SUMMARY:Modul 1: Ausbildung unterwiesene Person nach TRVB 128 S für ortsfeste Löschwasseranlagen - nass und trocken

DESCRIPTION:

PRIORITY:5

CLASS:PUBLIC

END:VEVENT

END:VCALENDAR
