BEGIN:VCALENDAR

VERSION:2.0

METHOD:PUBLISH

BEGIN:VEVENT

DTSTART:20261007T083000

DTEND:20261008T163000

LOCATION:TÜV AUSTRIA AKADEMIE GMBH, campus21 / TÜV AUSTRIA Platz 1, 2345 Brunn am Gebirge

TRANSP: OPAQUE

SEQUENCE:0

UID:1865111594

DTSTAMP:20260422T071601Z

SUMMARY:Ausbildung zertifizierte:r Sachkundige:r nach EN 671 und unterwiesene Person nach TRVB 128 S TÜV®

DESCRIPTION:

PRIORITY:5

CLASS:PUBLIC

END:VEVENT

END:VCALENDAR
