BEGIN:VCALENDAR

VERSION:2.0

METHOD:PUBLISH

BEGIN:VEVENT

DTSTART:20261110T083000

DTEND:20261110T143000

LOCATION:TÜV AUSTRIA AKADEMIE GMBH, campus21 / TÜV AUSTRIA Platz 1, 2345 Brunn am Gebirge

TRANSP: OPAQUE

SEQUENCE:0

UID:374763563

DTSTAMP:20260422T073203Z

SUMMARY:Brandschutzkonzepte

DESCRIPTION:

PRIORITY:5

CLASS:PUBLIC

END:VEVENT

END:VCALENDAR
