BEGIN:VCALENDAR

VERSION:2.0

METHOD:PUBLISH

BEGIN:VEVENT

DTSTART:20260518T083000

DTEND:20260518T143000

LOCATION:TÜV AUSTRIA Online Campus, , 0 Online

TRANSP: OPAQUE

SEQUENCE:0

UID:1628243170

DTSTAMP:20260422T072518Z

SUMMARY:Brandschutzkonzepte

DESCRIPTION:

PRIORITY:5

CLASS:PUBLIC

END:VEVENT

END:VCALENDAR
