BEGIN:VCALENDAR

VERSION:2.0

METHOD:PUBLISH

BEGIN:VEVENT

DTSTART:20261119T083000

DTEND:20261119T163000

LOCATION:TÜV AUSTRIA AKADEMIE GMBH, Münchner Bundesstraße 116, 5020 Salzburg

TRANSP: OPAQUE

SEQUENCE:0

UID:488206101

DTSTAMP:20260422T072352Z

SUMMARY:Brandschutz in Nutzungen mit besonderer Personengefährdung (N1)

DESCRIPTION:

PRIORITY:5

CLASS:PUBLIC

END:VEVENT

END:VCALENDAR
