BEGIN:VCALENDAR

VERSION:2.0

METHOD:PUBLISH

BEGIN:VEVENT

DTSTART:20260701T083000

DTEND:20260701T163000

LOCATION:TÜV AUSTRIA AKADEMIE GMBH, Wiener Bundesstraße 8, 4060 Leonding

TRANSP: OPAQUE

SEQUENCE:0

UID:399162222

DTSTAMP:20260422T073311Z

SUMMARY:Brandschutz in Nutzungen mit besonderer Personengefährdung (N1)

DESCRIPTION:

PRIORITY:5

CLASS:PUBLIC

END:VEVENT

END:VCALENDAR
