BEGIN:VCALENDAR

VERSION:2.0

METHOD:PUBLISH

BEGIN:VEVENT

DTSTART:20261021T083000

DTEND:20261021T163000

LOCATION:Novapark Hotelbetriebs-GmbH, Fischeraustraße 22, 8051 Graz

TRANSP: OPAQUE

SEQUENCE:0

UID:521123484

DTSTAMP:20260422T072838Z

SUMMARY:Brandschutzklappen

DESCRIPTION:

PRIORITY:5

CLASS:PUBLIC

END:VEVENT

END:VCALENDAR
