BEGIN:VCALENDAR

VERSION:2.0

METHOD:PUBLISH

BEGIN:VEVENT

DTSTART:20261112T083000

DTEND:20261112T163000

LOCATION:Novapark Hotelbetriebs-GmbH, Fischeraustraße 22, 8051 Graz

TRANSP: OPAQUE

SEQUENCE:0

UID:1649991270

DTSTAMP:20260422T072316Z

SUMMARY:Fortbildung Brandschutzwart:innen


DESCRIPTION:

PRIORITY:5

CLASS:PUBLIC

END:VEVENT

END:VCALENDAR
