BEGIN:VCALENDAR

VERSION:2.0

METHOD:PUBLISH

BEGIN:VEVENT

DTSTART:20261109T083000

DTEND:20261109T163000

LOCATION:TÜV AUSTRIA AKADEMIE GMBH, Dr.-Franz-Werner-Straße 34, 6020 Innsbruck

TRANSP: OPAQUE

SEQUENCE:0

UID:181401351

DTSTAMP:20260422T073409Z

SUMMARY:Fortbildung Brandschutzwart:innen


DESCRIPTION:

PRIORITY:5

CLASS:PUBLIC

END:VEVENT

END:VCALENDAR
