BEGIN:VCALENDAR

VERSION:2.0

METHOD:PUBLISH

BEGIN:VEVENT

DTSTART:20260622T083000

DTEND:20260622T163000

LOCATION:TÜV AUSTRIA AKADEMIE GMBH, Münchner Bundesstraße 116, 5020 Salzburg

TRANSP: OPAQUE

SEQUENCE:0

UID:1783569118

DTSTAMP:20260422T073532Z

SUMMARY:Fortbildung Brandschutzwart:innen


DESCRIPTION:

PRIORITY:5

CLASS:PUBLIC

END:VEVENT

END:VCALENDAR
