BEGIN:VCALENDAR

VERSION:2.0

METHOD:PUBLISH

BEGIN:VEVENT

DTSTART:20261127T083000

DTEND:20261127T120000

LOCATION:Novapark Hotelbetriebs-GmbH, Fischeraustraße 22, 8051 Graz

TRANSP: OPAQUE

SEQUENCE:0

UID:1427793020

DTSTAMP:20260422T070107Z

SUMMARY:Rauch- und Wärmeabzugsanlagen - RWA (TRVB 125 S)

DESCRIPTION:

PRIORITY:5

CLASS:PUBLIC

END:VEVENT

END:VCALENDAR
