BEGIN:VCALENDAR

VERSION:2.0

METHOD:PUBLISH

BEGIN:VEVENT

DTSTART:20261016T083000

DTEND:20261016T120000

LOCATION:TÜV AUSTRIA Technology & Innovation Center, Deutschstraße 10, 1230 Wien

TRANSP: OPAQUE

SEQUENCE:0

UID:977477160

DTSTAMP:20260422T065845Z

SUMMARY:Rauch- und Wärmeabzugsanlagen - RWA (TRVB 125 S)

DESCRIPTION:

PRIORITY:5

CLASS:PUBLIC

END:VEVENT

END:VCALENDAR
