BEGIN:VCALENDAR

VERSION:2.0

METHOD:PUBLISH

BEGIN:VEVENT

DTSTART:20261002T083000

DTEND:20261002T120000

LOCATION:TÜV AUSTRIA AKADEMIE GMBH, Protteser Straße 40, 2230 Gänserndorf

TRANSP: OPAQUE

SEQUENCE:0

UID:766994437

DTSTAMP:20260422T065907Z

SUMMARY:Rauch- und Wärmeabzugsanlagen - RWA (TRVB 125 S)

DESCRIPTION:

PRIORITY:5

CLASS:PUBLIC

END:VEVENT

END:VCALENDAR
