BEGIN:VCALENDAR

VERSION:2.0

METHOD:PUBLISH

BEGIN:VEVENT

DTSTART:20261214T083000

DTEND:20261214T163000

LOCATION:TÜV AUSTRIA AKADEMIE GMBH, Wiener Bundesstraße 8, 4060 Leonding

TRANSP: OPAQUE

SEQUENCE:0

UID:1856216905

DTSTAMP:20260422T070203Z

SUMMARY:Ausbildung Brandschutzwart:in

DESCRIPTION:

PRIORITY:5

CLASS:PUBLIC

END:VEVENT

END:VCALENDAR
