BEGIN:VCALENDAR

VERSION:2.0

METHOD:PUBLISH

BEGIN:VEVENT

DTSTART:20260928T083000

DTEND:20260928T163000

LOCATION:TÜV AUSTRIA AKADEMIE GMBH, Protteser Straße 40, 2230 Gänserndorf

TRANSP: OPAQUE

SEQUENCE:0

UID:693682836

DTSTAMP:20260422T070430Z

SUMMARY:Ausbildung Brandschutzwart:in

DESCRIPTION:

PRIORITY:5

CLASS:PUBLIC

END:VEVENT

END:VCALENDAR
