BEGIN:VCALENDAR

VERSION:2.0

METHOD:PUBLISH

BEGIN:VEVENT

DTSTART:20260608T083000

DTEND:20260608T163000

LOCATION:TÜV AUSTRIA AKADEMIE GMBH, Dr.-Franz-Werner-Straße 34, 6020 Innsbruck

TRANSP: OPAQUE

SEQUENCE:0

UID:1496196869

DTSTAMP:20260422T070331Z

SUMMARY:Ausbildung Brandschutzwart:in

DESCRIPTION:

PRIORITY:5

CLASS:PUBLIC

END:VEVENT

END:VCALENDAR
