BEGIN:VCALENDAR

VERSION:2.0

METHOD:PUBLISH

BEGIN:VEVENT

DTSTART:20261013T090000

DTEND:20261201T120000

LOCATION:TÜV AUSTRIA Online Campus, , 0 Online

TRANSP: OPAQUE

SEQUENCE:0

UID:1961440902

DTSTAMP:20260420T144816Z

SUMMARY:Ausbildung zertifizierte:r KI-Manager:in TÜV®

DESCRIPTION:

PRIORITY:5

CLASS:PUBLIC

END:VEVENT

END:VCALENDAR
