BEGIN:VCALENDAR

VERSION:2.0

METHOD:PUBLISH

BEGIN:VEVENT

DTSTART:20260512T000000

DTEND:20260716T235900

LOCATION:Digital Excellence Online Campus, , 0 Online

TRANSP: OPAQUE

SEQUENCE:0

UID:1152712372

DTSTAMP:20260420T145441Z

SUMMARY:Certified Digital Excellence Consultant TÜV®

DESCRIPTION:

PRIORITY:5

CLASS:PUBLIC

END:VEVENT

END:VCALENDAR
