BEGIN:VCALENDAR

VERSION:2.0

METHOD:PUBLISH

BEGIN:VEVENT

DTSTART:20260501T000000

DTEND:20260531T235900

LOCATION:Digital Excellence Online Campus, , 0 Online

TRANSP: OPAQUE

SEQUENCE:0

UID:812489849

DTSTAMP:20260420T143133Z

SUMMARY:Digital Excellence Practitioner

DESCRIPTION:

PRIORITY:5

CLASS:PUBLIC

END:VEVENT

END:VCALENDAR
