BEGIN:VCALENDAR

VERSION:2.0

METHOD:PUBLISH

BEGIN:VEVENT

DTSTART:20261209T083000

DTEND:20261209T163000

LOCATION:TÜV AUSTRIA AKADEMIE GMBH, campus21 / TÜV AUSTRIA Platz 1, 2345 Brunn am Gebirge

TRANSP: OPAQUE

SEQUENCE:0

UID:1900174357

DTSTAMP:20260422T070802Z

SUMMARY:Notbeleuchtung - Sicherheitsbeleuchtung

DESCRIPTION:

PRIORITY:5

CLASS:PUBLIC

END:VEVENT

END:VCALENDAR
