BEGIN:VCALENDAR

VERSION:2.0

METHOD:PUBLISH

BEGIN:VEVENT

DTSTART:20260619T083000

DTEND:20260619T120000

LOCATION:TÜV AUSTRIA Online Campus, , 0 Online

TRANSP: OPAQUE

SEQUENCE:0

UID:2022690761

DTSTAMP:20260422T070035Z

SUMMARY:Die Verordnung über brennbare Flüssigkeiten - VbF 2023

DESCRIPTION:

PRIORITY:5

CLASS:PUBLIC

END:VEVENT

END:VCALENDAR
