BEGIN:VCALENDAR

VERSION:2.0

METHOD:PUBLISH

BEGIN:VEVENT

DTSTART:20261111T083000

DTEND:20270205T164500

LOCATION:TÜV AUSTRIA AKADEMIE GMBH, Dr.-Franz-Werner-Straße 34, 6020 Innsbruck

TRANSP: OPAQUE

SEQUENCE:0

UID:1214954533

DTSTAMP:20260420T210947Z

SUMMARY:Ausbildung Sicherheitsfachkraft

DESCRIPTION:

PRIORITY:5

CLASS:PUBLIC

END:VEVENT

END:VCALENDAR
