BEGIN:VCALENDAR

VERSION:2.0

METHOD:PUBLISH

BEGIN:VEVENT

DTSTART:20261021T083000

DTEND:20270129T164500

LOCATION:TÜV AUSTRIA AKADEMIE GMBH, Wiener Bundesstraße 8, 4060 Leonding

TRANSP: OPAQUE

SEQUENCE:0

UID:421781121

DTSTAMP:20260420T192816Z

SUMMARY:Ausbildung Sicherheitsfachkraft

DESCRIPTION:

PRIORITY:5

CLASS:PUBLIC

END:VEVENT

END:VCALENDAR
